BEGIN:VCALENDAR
VERSION:2.0
PRODID:-//Three Counties Liberal Jewish Community - ECPv6.15.20//NONSGML v1.0//EN
CALSCALE:GREGORIAN
METHOD:PUBLISH
X-ORIGINAL-URL:https://www.3cljc.org.uk
X-WR-CALDESC:Events for Three Counties Liberal Jewish Community
REFRESH-INTERVAL;VALUE=DURATION:PT1H
X-Robots-Tag:noindex
X-PUBLISHED-TTL:PT1H
BEGIN:VTIMEZONE
TZID:Europe/London
BEGIN:DAYLIGHT
TZOFFSETFROM:+0000
TZOFFSETTO:+0100
TZNAME:BST
DTSTART:20250330T010000
END:DAYLIGHT
BEGIN:STANDARD
TZOFFSETFROM:+0100
TZOFFSETTO:+0000
TZNAME:GMT
DTSTART:20251026T010000
END:STANDARD
BEGIN:DAYLIGHT
TZOFFSETFROM:+0000
TZOFFSETTO:+0100
TZNAME:BST
DTSTART:20260329T010000
END:DAYLIGHT
BEGIN:STANDARD
TZOFFSETFROM:+0100
TZOFFSETTO:+0000
TZNAME:GMT
DTSTART:20261025T010000
END:STANDARD
BEGIN:DAYLIGHT
TZOFFSETFROM:+0000
TZOFFSETTO:+0100
TZNAME:BST
DTSTART:20270328T010000
END:DAYLIGHT
BEGIN:STANDARD
TZOFFSETFROM:+0100
TZOFFSETTO:+0000
TZNAME:GMT
DTSTART:20271031T010000
END:STANDARD
END:VTIMEZONE
BEGIN:VEVENT
DTSTART;TZID=Europe/London:20260308T150000
DTEND;TZID=Europe/London:20260308T170000
DTSTAMP:20260419T131230
CREATED:20251115T153145Z
LAST-MODIFIED:20251115T153149Z
UID:2225-1772982000-1772989200@www.3cljc.org.uk
SUMMARY:Purim Party
DESCRIPTION:Purim Party
URL:https://www.3cljc.org.uk/event/purim-party/
CATEGORIES:Jewish Festival,Services
ATTACH;FMTTYPE=image/jpeg:https://www.3cljc.org.uk/wp-content/uploads/2022/05/Purim-Masks.jpg
END:VEVENT
BEGIN:VEVENT
DTSTART;TZID=Europe/London:20260312T193000
DTEND;TZID=Europe/London:20260312T204500
DTSTAMP:20260419T131230
CREATED:20251116T091453Z
LAST-MODIFIED:20251116T091459Z
UID:2265-1773343800-1773348300@www.3cljc.org.uk
SUMMARY:Learning Circle Online Study
DESCRIPTION:3CLJC runs an adult online ‘Learning Circle’\, where we meet on zoom to study Jewish topics together.
URL:https://www.3cljc.org.uk/event/learning-circle-online-study-12/
CATEGORIES:Adult Learning,Education
ATTACH;FMTTYPE=image/jpeg:https://www.3cljc.org.uk/wp-content/uploads/2025/03/learning-circle-3.jpeg
END:VEVENT
BEGIN:VEVENT
DTSTART;TZID=Europe/London:20260321T110000
DTEND;TZID=Europe/London:20260321T130000
DTSTAMP:20260419T131230
CREATED:20251115T152048Z
LAST-MODIFIED:20251115T152051Z
UID:2216-1774090800-1774098000@www.3cljc.org.uk
SUMMARY:Shabbat Morning Service and Lunch
DESCRIPTION:Shabbat Morning Service and Bring & Share Lunch.
URL:https://www.3cljc.org.uk/event/shabbat-morning-service-and-lunch-4/
CATEGORIES:Lunch,Services
ATTACH;FMTTYPE=image/jpeg:https://www.3cljc.org.uk/wp-content/uploads/2025/03/service-2.jpeg
END:VEVENT
BEGIN:VEVENT
DTSTART;TZID=Europe/London:20260322T143000
DTEND;TZID=Europe/London:20260322T163000
DTSTAMP:20260419T131230
CREATED:20251115T160016Z
LAST-MODIFIED:20251115T160020Z
UID:2249-1774189800-1774197000@www.3cljc.org.uk
SUMMARY:Cheder
DESCRIPTION:Creative Jewish learning for 3-12 year olds and their parents – please contact shalom@3cljc.org.uk for more information.
URL:https://www.3cljc.org.uk/event/jewish-learning-4/
CATEGORIES:Cheder,Education
ATTACH;FMTTYPE=image/jpeg:https://www.3cljc.org.uk/wp-content/uploads/2025/03/cheder-3.jpeg
END:VEVENT
BEGIN:VEVENT
DTSTART;TZID=Europe/London:20260326T193000
DTEND;TZID=Europe/London:20260326T204500
DTSTAMP:20260419T131230
CREATED:20251116T091627Z
LAST-MODIFIED:20251116T091632Z
UID:2267-1774553400-1774557900@www.3cljc.org.uk
SUMMARY:Learning Circle Online Study
DESCRIPTION:3CLJC runs an adult online ‘Learning Circle’\, where we meet on zoom to study Jewish topics together.
URL:https://www.3cljc.org.uk/event/learning-circle-online-study-13/
CATEGORIES:Adult Learning,Education
ATTACH;FMTTYPE=image/jpeg:https://www.3cljc.org.uk/wp-content/uploads/2025/03/learning-circle-4.jpeg
END:VEVENT
END:VCALENDAR