BEGIN:VCALENDAR
VERSION:2.0
PRODID:-//Three Counties Liberal Jewish Community - ECPv6.15.20//NONSGML v1.0//EN
CALSCALE:GREGORIAN
METHOD:PUBLISH
X-ORIGINAL-URL:https://www.3cljc.org.uk
X-WR-CALDESC:Events for Three Counties Liberal Jewish Community
REFRESH-INTERVAL;VALUE=DURATION:PT1H
X-Robots-Tag:noindex
X-PUBLISHED-TTL:PT1H
BEGIN:VTIMEZONE
TZID:Europe/London
BEGIN:DAYLIGHT
TZOFFSETFROM:+0000
TZOFFSETTO:+0100
TZNAME:BST
DTSTART:20250330T010000
END:DAYLIGHT
BEGIN:STANDARD
TZOFFSETFROM:+0100
TZOFFSETTO:+0000
TZNAME:GMT
DTSTART:20251026T010000
END:STANDARD
BEGIN:DAYLIGHT
TZOFFSETFROM:+0000
TZOFFSETTO:+0100
TZNAME:BST
DTSTART:20260329T010000
END:DAYLIGHT
BEGIN:STANDARD
TZOFFSETFROM:+0100
TZOFFSETTO:+0000
TZNAME:GMT
DTSTART:20261025T010000
END:STANDARD
BEGIN:DAYLIGHT
TZOFFSETFROM:+0000
TZOFFSETTO:+0100
TZNAME:BST
DTSTART:20270328T010000
END:DAYLIGHT
BEGIN:STANDARD
TZOFFSETFROM:+0100
TZOFFSETTO:+0000
TZNAME:GMT
DTSTART:20271031T010000
END:STANDARD
END:VTIMEZONE
BEGIN:VEVENT
DTSTART;TZID=Europe/London:20260103T110000
DTEND;TZID=Europe/London:20260103T133000
DTSTAMP:20260419T130422
CREATED:20251115T150930Z
LAST-MODIFIED:20251115T150934Z
UID:2210-1767438000-1767447000@www.3cljc.org.uk
SUMMARY:Shabbat Morning Service and Lunch
DESCRIPTION:Shabbat Morning Service and Bring & Share Lunch.
URL:https://www.3cljc.org.uk/event/shabbat-morning-service-and-lunch/
CATEGORIES:Lunch,Services
ATTACH;FMTTYPE=image/jpeg:https://www.3cljc.org.uk/wp-content/uploads/2025/03/service-1.jpeg
END:VEVENT
BEGIN:VEVENT
DTSTART;TZID=Europe/London:20260108T193000
DTEND;TZID=Europe/London:20260108T204500
DTSTAMP:20260419T130422
CREATED:20251115T161157Z
LAST-MODIFIED:20251115T161202Z
UID:2257-1767900600-1767905100@www.3cljc.org.uk
SUMMARY:Learning Circle Online Study
DESCRIPTION:3CLJC runs an adult online ‘Learning Circle’\, where we meet on zoom to study Jewish topics together.
URL:https://www.3cljc.org.uk/event/learning-circle-online-study-8/
CATEGORIES:Adult Learning,Education
ATTACH;FMTTYPE=image/jpeg:https://www.3cljc.org.uk/wp-content/uploads/2025/03/learning-circle-4.jpeg
END:VEVENT
BEGIN:VEVENT
DTSTART;TZID=Europe/London:20260111T143000
DTEND;TZID=Europe/London:20260111T163000
DTSTAMP:20260419T130422
CREATED:20251115T155633Z
LAST-MODIFIED:20251115T155638Z
UID:2245-1768141800-1768149000@www.3cljc.org.uk
SUMMARY:Cheder
DESCRIPTION:Creative Jewish learning for 3-12 year olds and their parents – please contact shalom@3cljc.org.uk for more information.
URL:https://www.3cljc.org.uk/event/jewish-learning-2/
CATEGORIES:Cheder,Education
ATTACH;FMTTYPE=image/jpeg:https://www.3cljc.org.uk/wp-content/uploads/2025/03/cheder-5.jpeg
END:VEVENT
BEGIN:VEVENT
DTSTART;TZID=Europe/London:20260117T110000
DTEND;TZID=Europe/London:20260117T133000
DTSTAMP:20260419T130422
CREATED:20251115T151432Z
LAST-MODIFIED:20251115T151436Z
UID:2212-1768647600-1768656600@www.3cljc.org.uk
SUMMARY:Shabbat Morning Service and Lunch
DESCRIPTION:Shabbat Morning Service and Bring & Share Lunch.
URL:https://www.3cljc.org.uk/event/shabbat-morning-service-and-lunch-2/
CATEGORIES:Lunch,Services
ATTACH;FMTTYPE=image/jpeg:https://www.3cljc.org.uk/wp-content/uploads/2022/02/Sefer-Torah.jpg
END:VEVENT
BEGIN:VEVENT
DTSTART;TZID=Europe/London:20260122T193000
DTEND;TZID=Europe/London:20260122T204500
DTSTAMP:20260419T130422
CREATED:20251115T161332Z
LAST-MODIFIED:20251115T161340Z
UID:2259-1769110200-1769114700@www.3cljc.org.uk
SUMMARY:Learning Circle Online Study
DESCRIPTION:3CLJC runs an adult online ‘Learning Circle’\, where we meet on zoom to study Jewish topics together.
URL:https://www.3cljc.org.uk/event/learning-circle-online-study-9/
CATEGORIES:Adult Learning,Education
ATTACH;FMTTYPE=image/jpeg:https://www.3cljc.org.uk/wp-content/uploads/2025/03/learning-circle-1.jpeg
END:VEVENT
END:VCALENDAR