BEGIN:VCALENDAR
VERSION:2.0
PRODID:-//Three Counties Liberal Jewish Community - ECPv6.15.20//NONSGML v1.0//EN
CALSCALE:GREGORIAN
METHOD:PUBLISH
X-ORIGINAL-URL:https://www.3cljc.org.uk
X-WR-CALDESC:Events for Three Counties Liberal Jewish Community
REFRESH-INTERVAL;VALUE=DURATION:PT1H
X-Robots-Tag:noindex
X-PUBLISHED-TTL:PT1H
BEGIN:VTIMEZONE
TZID:Europe/London
BEGIN:DAYLIGHT
TZOFFSETFROM:+0000
TZOFFSETTO:+0100
TZNAME:BST
DTSTART:20240331T010000
END:DAYLIGHT
BEGIN:STANDARD
TZOFFSETFROM:+0100
TZOFFSETTO:+0000
TZNAME:GMT
DTSTART:20241027T010000
END:STANDARD
BEGIN:DAYLIGHT
TZOFFSETFROM:+0000
TZOFFSETTO:+0100
TZNAME:BST
DTSTART:20250330T010000
END:DAYLIGHT
BEGIN:STANDARD
TZOFFSETFROM:+0100
TZOFFSETTO:+0000
TZNAME:GMT
DTSTART:20251026T010000
END:STANDARD
BEGIN:DAYLIGHT
TZOFFSETFROM:+0000
TZOFFSETTO:+0100
TZNAME:BST
DTSTART:20260329T010000
END:DAYLIGHT
BEGIN:STANDARD
TZOFFSETFROM:+0100
TZOFFSETTO:+0000
TZNAME:GMT
DTSTART:20261025T010000
END:STANDARD
END:VTIMEZONE
BEGIN:VEVENT
DTSTART;TZID=Europe/London:20251106T193000
DTEND;TZID=Europe/London:20251106T204500
DTSTAMP:20260419T162212
CREATED:20250803T125807Z
LAST-MODIFIED:20250803T125810Z
UID:2162-1762457400-1762461900@www.3cljc.org.uk
SUMMARY:Learning Circle Online Study
DESCRIPTION:3CLJC runs an adult online ‘Learning Circle’\, where we meet on zoom to study Jewish topics together.
URL:https://www.3cljc.org.uk/event/learning-circle-online-study-4/
CATEGORIES:Adult Learning,Education
ATTACH;FMTTYPE=image/jpeg:https://www.3cljc.org.uk/wp-content/uploads/2025/03/learning-circle-3.jpeg
END:VEVENT
BEGIN:VEVENT
DTSTART;TZID=Europe/London:20251107T183000
DTEND;TZID=Europe/London:20251107T203000
DTSTAMP:20260419T162212
CREATED:20250803T130315Z
LAST-MODIFIED:20250803T130353Z
UID:2164-1762540200-1762547400@www.3cljc.org.uk
SUMMARY:Friday Night Service and Supper
DESCRIPTION:Friday Night Service and bring and share supper.
URL:https://www.3cljc.org.uk/event/friday-night-service-3/
CATEGORIES:Services,Supper
ATTACH;FMTTYPE=image/jpeg:https://www.3cljc.org.uk/wp-content/uploads/2022/08/Candles.jpg
END:VEVENT
BEGIN:VEVENT
DTSTART;TZID=Europe/London:20251109T143000
DTEND;TZID=Europe/London:20251109T163000
DTSTAMP:20260419T162212
CREATED:20250803T130844Z
LAST-MODIFIED:20250803T130846Z
UID:2166-1762698600-1762705800@www.3cljc.org.uk
SUMMARY:Chedder
DESCRIPTION:Our informal Cheder offers Jewish learning for ages 3-16 through fun and engaging projects.  We meet regularly and cater for children with all levels of Jewish knowledge and experience.
URL:https://www.3cljc.org.uk/event/chedder/
CATEGORIES:Cheder,Education
ATTACH;FMTTYPE=image/jpeg:https://www.3cljc.org.uk/wp-content/uploads/2025/03/cheder-1.jpeg
END:VEVENT
BEGIN:VEVENT
DTSTART;TZID=Europe/London:20251120T193000
DTEND;TZID=Europe/London:20251120T204500
DTSTAMP:20260419T162212
CREATED:20250803T131133Z
LAST-MODIFIED:20250803T131136Z
UID:2168-1763667000-1763671500@www.3cljc.org.uk
SUMMARY:Learning Circle Online Study
DESCRIPTION:3CLJC runs an adult online ‘Learning Circle’\, where we meet on zoom to study Jewish topics together.
URL:https://www.3cljc.org.uk/event/learning-circle-online-study-5/
CATEGORIES:Adult Learning,Education
ATTACH;FMTTYPE=image/jpeg:https://www.3cljc.org.uk/wp-content/uploads/2025/03/learning-circle-1.jpeg
END:VEVENT
BEGIN:VEVENT
DTSTART;TZID=Europe/London:20251122T110000
DTEND;TZID=Europe/London:20251122T133000
DTSTAMP:20260419T162212
CREATED:20250803T131619Z
LAST-MODIFIED:20250803T131629Z
UID:2170-1763809200-1763818200@www.3cljc.org.uk
SUMMARY:Eco Shabbat Service and Lunch
DESCRIPTION:Eco Shabbat Service with the Eco Judaism team and a bring and share lunch.
URL:https://www.3cljc.org.uk/event/eco-shabbat-service-3/
CATEGORIES:Eco Judaism,Lunch,Services
ATTACH;FMTTYPE=image/jpeg:https://www.3cljc.org.uk/wp-content/uploads/2022/11/Tu-Bishvat.jpg
END:VEVENT
END:VCALENDAR