BEGIN:VCALENDAR
VERSION:2.0
PRODID:-//Three Counties Liberal Jewish Community - ECPv6.15.20//NONSGML v1.0//EN
CALSCALE:GREGORIAN
METHOD:PUBLISH
X-WR-CALNAME:Three Counties Liberal Jewish Community
X-ORIGINAL-URL:https://www.3cljc.org.uk
X-WR-CALDESC:Events for Three Counties Liberal Jewish Community
REFRESH-INTERVAL;VALUE=DURATION:PT1H
X-Robots-Tag:noindex
X-PUBLISHED-TTL:PT1H
BEGIN:VTIMEZONE
TZID:Europe/London
BEGIN:DAYLIGHT
TZOFFSETFROM:+0000
TZOFFSETTO:+0100
TZNAME:BST
DTSTART:20230326T010000
END:DAYLIGHT
BEGIN:STANDARD
TZOFFSETFROM:+0100
TZOFFSETTO:+0000
TZNAME:GMT
DTSTART:20231029T010000
END:STANDARD
BEGIN:DAYLIGHT
TZOFFSETFROM:+0000
TZOFFSETTO:+0100
TZNAME:BST
DTSTART:20240331T010000
END:DAYLIGHT
BEGIN:STANDARD
TZOFFSETFROM:+0100
TZOFFSETTO:+0000
TZNAME:GMT
DTSTART:20241027T010000
END:STANDARD
BEGIN:DAYLIGHT
TZOFFSETFROM:+0000
TZOFFSETTO:+0100
TZNAME:BST
DTSTART:20250330T010000
END:DAYLIGHT
BEGIN:STANDARD
TZOFFSETFROM:+0100
TZOFFSETTO:+0000
TZNAME:GMT
DTSTART:20251026T010000
END:STANDARD
END:VTIMEZONE
BEGIN:VEVENT
DTSTART;TZID=Europe/London:20241214T110000
DTEND;TZID=Europe/London:20241214T133000
DTSTAMP:20260425T234405
CREATED:20240718T090204Z
LAST-MODIFIED:20240718T090207Z
UID:1918-1734174000-1734183000@www.3cljc.org.uk
SUMMARY:Shabbat Service
DESCRIPTION:Join Rabbi Anna Gerrard for this Shabbat service in Gloucester. This will be followed by a kiddush and a bring and share lunch. For further details see bulletin.
URL:https://www.3cljc.org.uk/event/shabbat-service-17/
CATEGORIES:Services
ATTACH;FMTTYPE=image/jpeg:https://www.3cljc.org.uk/wp-content/uploads/2022/02/Scroll-finials.jpg
END:VEVENT
BEGIN:VEVENT
DTSTART;TZID=Europe/London:20241229T150000
DTEND;TZID=Europe/London:20241229T170000
DTSTAMP:20260425T234405
CREATED:20240718T090613Z
LAST-MODIFIED:20240718T090616Z
UID:1920-1735484400-1735491600@www.3cljc.org.uk
SUMMARY:Chanukah Party
DESCRIPTION:Rabbi Anna Gerrard will be hosting the annual Chanukah party for all ages. Lots of fun and games\, bring and share tea\, and of course\, as it gets dark\, lighting the Chanukah candles.
URL:https://www.3cljc.org.uk/event/chanukah-party-2/
CATEGORIES:Afternoon Tea,Cheder,Jewish Festival,Services
ATTACH;FMTTYPE=image/jpeg:https://www.3cljc.org.uk/wp-content/uploads/2022/02/Chanukah-Party-1.jpg
END:VEVENT
END:VCALENDAR