BEGIN:VCALENDAR
VERSION:2.0
PRODID:-//Three Counties Liberal Jewish Community - ECPv6.15.20//NONSGML v1.0//EN
CALSCALE:GREGORIAN
METHOD:PUBLISH
X-WR-CALNAME:Three Counties Liberal Jewish Community
X-ORIGINAL-URL:https://www.3cljc.org.uk
X-WR-CALDESC:Events for Three Counties Liberal Jewish Community
REFRESH-INTERVAL;VALUE=DURATION:PT1H
X-Robots-Tag:noindex
X-PUBLISHED-TTL:PT1H
BEGIN:VTIMEZONE
TZID:Europe/London
BEGIN:DAYLIGHT
TZOFFSETFROM:+0000
TZOFFSETTO:+0100
TZNAME:BST
DTSTART:20230326T010000
END:DAYLIGHT
BEGIN:STANDARD
TZOFFSETFROM:+0100
TZOFFSETTO:+0000
TZNAME:GMT
DTSTART:20231029T010000
END:STANDARD
BEGIN:DAYLIGHT
TZOFFSETFROM:+0000
TZOFFSETTO:+0100
TZNAME:BST
DTSTART:20240331T010000
END:DAYLIGHT
BEGIN:STANDARD
TZOFFSETFROM:+0100
TZOFFSETTO:+0000
TZNAME:GMT
DTSTART:20241027T010000
END:STANDARD
BEGIN:DAYLIGHT
TZOFFSETFROM:+0000
TZOFFSETTO:+0100
TZNAME:BST
DTSTART:20250330T010000
END:DAYLIGHT
BEGIN:STANDARD
TZOFFSETFROM:+0100
TZOFFSETTO:+0000
TZNAME:GMT
DTSTART:20251026T010000
END:STANDARD
END:VTIMEZONE
BEGIN:VEVENT
DTSTART;TZID=Europe/London:20241124T000000
DTEND;TZID=Europe/London:20241124T235959
DTSTAMP:20260425T155248
CREATED:20240718T085430Z
LAST-MODIFIED:20240718T085432Z
UID:1913-1732406400-1732492799@www.3cljc.org.uk
SUMMARY:Mitzvah Day
DESCRIPTION:Mitzvah Day is a Jewish led day of social action that brings thousands of people together of all faiths and none\, and all ages\, to give their time\, NOT their money\, to make a difference to the local community around them\, on Mitzvah Day\, and throughout the year. \n\n\n\nMore details of our chosen project for this year will be in the bulletin\, but put the date in your diary.
URL:https://www.3cljc.org.uk/event/mitzvah-day-3/
CATEGORIES:Event
ATTACH;FMTTYPE=image/png:https://www.3cljc.org.uk/wp-content/uploads/2024/07/Mitzvah-Day.png
END:VEVENT
BEGIN:VEVENT
DTSTART;TZID=Europe/London:20241109T110000
DTEND;TZID=Europe/London:20241109T133000
DTSTAMP:20260425T155248
CREATED:20240718T083900Z
LAST-MODIFIED:20240718T083914Z
UID:1911-1731150000-1731159000@www.3cljc.org.uk
SUMMARY:Shabbat Service
DESCRIPTION:Join members of the community for a lay led Saturday morning Shabbat service in Gloucester. This will be followed by a kiddush and a bring and share lunch. Details in the bulletin nearer the time.
URL:https://www.3cljc.org.uk/event/shabbat-service-16/
CATEGORIES:Services
ATTACH;FMTTYPE=image/jpeg:https://www.3cljc.org.uk/wp-content/uploads/2021/02/Jill-Induction.jpg
END:VEVENT
BEGIN:VEVENT
DTSTART;TZID=Europe/London:20241026T150000
DTEND;TZID=Europe/London:20241026T170000
DTSTAMP:20260425T155248
CREATED:20240718T082930Z
LAST-MODIFIED:20240718T090814Z
UID:1909-1729954800-1729962000@www.3cljc.org.uk
SUMMARY:Simchat Torah
DESCRIPTION:Join Rabbi Anna for an afternoon shabbat and Simchat Torah service in Gloucester.  This will be followed by afternoon tea.  More details nearer the time in the bulletin.
URL:https://www.3cljc.org.uk/event/simchat-torah-3/
CATEGORIES:Afternoon Tea,Cheder,Jewish Festival,Services
ATTACH;FMTTYPE=image/png:https://www.3cljc.org.uk/wp-content/uploads/2023/12/Simchat-Torah-2-23.png
END:VEVENT
BEGIN:VEVENT
DTSTART;TZID=Europe/London:20241020T140000
DTEND;TZID=Europe/London:20241020T170000
DTSTAMP:20260425T155248
CREATED:20240710T060047Z
LAST-MODIFIED:20240710T060049Z
UID:1905-1729432800-1729443600@www.3cljc.org.uk
SUMMARY:Sukkot Tea
DESCRIPTION:An event suitable for all the family\, come along and join Rabbi Anna for the celebration of the festival of Sukkot. Sukkah decorating for the first hour\, then a bring and share tea. For the venue and other details please check the bulletin.
URL:https://www.3cljc.org.uk/event/sukkot-tea/
CATEGORIES:Afternoon Tea,Cheder,Jewish Festival
ATTACH;FMTTYPE=image/webp:https://www.3cljc.org.uk/wp-content/uploads/2022/09/Etrog-and-lulav.webp
END:VEVENT
BEGIN:VEVENT
DTSTART;TZID=Europe/London:20241012T100000
DTEND;TZID=Europe/London:20241012T190000
DTSTAMP:20260425T155248
CREATED:20240710T055407Z
LAST-MODIFIED:20240710T055410Z
UID:1903-1728727200-1728759600@www.3cljc.org.uk
SUMMARY:Yom Kippur
DESCRIPTION:Rabbi Anna Gerrard will be leading the Yom Kippur services in Gloucester. 10 – 1 morning and additional services\, 1 – 2 break\, 2 – 3 alternative to afternoon service\, and 3 – 4 Yizkor service. The Neilah service will be on line only at 19:00. Full details will be in the bulletin.
URL:https://www.3cljc.org.uk/event/yom-kippur-3/
CATEGORIES:Jewish Festival,Services
ATTACH;FMTTYPE=image/jpeg:https://www.3cljc.org.uk/wp-content/uploads/2022/08/Candles.jpg
END:VEVENT
BEGIN:VEVENT
DTSTART;TZID=Europe/London:20241011T183000
DTEND;TZID=Europe/London:20241011T203000
DTSTAMP:20260425T155248
CREATED:20240710T054837Z
LAST-MODIFIED:20240710T054838Z
UID:1901-1728671400-1728678600@www.3cljc.org.uk
SUMMARY:Kol Nidrei Service
DESCRIPTION:Kol Nidrei service led by Rabbi Anna Gerrard\, in Gloucester.  Full details as always\, will be in the bulletin.
URL:https://www.3cljc.org.uk/event/kol-nidrei-service/
CATEGORIES:Jewish Festival,Services
ATTACH;FMTTYPE=image/jpeg:https://www.3cljc.org.uk/wp-content/uploads/2021/02/Tunisian-Star.jpg
END:VEVENT
BEGIN:VEVENT
DTSTART;TZID=Europe/London:20241003T150000
DTEND;TZID=Europe/London:20241003T170000
DTSTAMP:20260425T155248
CREATED:20240710T054241Z
LAST-MODIFIED:20240909T073132Z
UID:1899-1727967600-1727974800@www.3cljc.org.uk
SUMMARY:Rosh Hashana
DESCRIPTION:Lay led Rosh Hashanah service to welcome in the New Year. Please bring your contributions to an afternoon tea. Contributions containing apples and honey would be particularly welcome!This service will be in Gloucester. Details in the bulletin.
URL:https://www.3cljc.org.uk/event/rosh-hashana/
CATEGORIES:Jewish Festival,Services
ATTACH;FMTTYPE=image/jpeg:https://www.3cljc.org.uk/wp-content/uploads/2022/02/Sefer-Torah.jpg
END:VEVENT
BEGIN:VEVENT
DTSTART;TZID=Europe/London:20241002T180000
DTEND;TZID=Europe/London:20241002T210000
DTSTAMP:20260425T155248
CREATED:20240710T053636Z
LAST-MODIFIED:20240710T053854Z
UID:1897-1727892000-1727902800@www.3cljc.org.uk
SUMMARY:Erev Rosh Hashanah Seder
DESCRIPTION:Traditional Sephardic Seder for the Erev Rosh Hashanah\, led by Rabbi Anna Gerrard. There will be a bring and share supper\, with food suggestions for the seder plate\, including of course apples and honey! Details in the bulletin.
URL:https://www.3cljc.org.uk/event/erev-rosh-hashanah-seder-2/
CATEGORIES:Dinners,Services
ATTACH;FMTTYPE=image/jpeg:https://www.3cljc.org.uk/wp-content/uploads/2023/11/RH-Seder-23.jpg
END:VEVENT
BEGIN:VEVENT
DTSTART;TZID=Europe/London:20240921T110000
DTEND;TZID=Europe/London:20240921T133000
DTSTAMP:20260425T155248
CREATED:20240710T052840Z
LAST-MODIFIED:20240710T052842Z
UID:1895-1726916400-1726925400@www.3cljc.org.uk
SUMMARY:Shabbat Service
DESCRIPTION:Join Rabbi Anna for this Shabbat service in Gloucester.  There will also be a talk someone from our chosen High Holy Day Charity appeal\, Nightstop Gloucestershire. This will be followed by a kiddush and a bring and share lunch. For more details see bulletin.
URL:https://www.3cljc.org.uk/event/shabbat-service-15/
CATEGORIES:Services
ATTACH;FMTTYPE=image/jpeg:https://www.3cljc.org.uk/wp-content/uploads/2022/02/Scroll-finials.jpg
END:VEVENT
BEGIN:VEVENT
DTSTART;TZID=Europe/London:20240906T183000
DTEND;TZID=Europe/London:20240906T213000
DTSTAMP:20260425T155248
CREATED:20240710T051735Z
LAST-MODIFIED:20240710T051737Z
UID:1893-1725647400-1725658200@www.3cljc.org.uk
SUMMARY:Friday Night Shabbat Service and Shared Supper
DESCRIPTION:Join Rabbi Anna Gerrard for this Friday Night Shabbat service in Gloucester. This will be followed by a kiddush and a shared supper. For further details\, including exact times and location see bulletin.
URL:https://www.3cljc.org.uk/event/friday-night-shabbat-service-and-shared-supper/
CATEGORIES:Dinners,Services
ATTACH;FMTTYPE=image/jpeg:https://www.3cljc.org.uk/wp-content/uploads/2024/04/Friday-Night-at-Cheltenham.jpg
END:VEVENT
BEGIN:VEVENT
DTSTART;TZID=Europe/London:20240809T190000
DTEND;TZID=Europe/London:20240809T213000
DTSTAMP:20260425T155248
CREATED:20240418T100133Z
LAST-MODIFIED:20240418T100252Z
UID:1857-1723230000-1723239000@www.3cljc.org.uk
SUMMARY:Friday Night Shabbat Service
DESCRIPTION:Join Rabbi Anna Gerrard for this Friday Night Shabbat service in Gloucester. This will be followed by a kiddush and a shared supper. For further details\, including exact times and location see bulletin.
URL:https://www.3cljc.org.uk/event/friday-night-shabbat-service-2/
CATEGORIES:Dinners,Services
ATTACH;FMTTYPE=image/jpeg:https://www.3cljc.org.uk/wp-content/uploads/2024/04/Friday-Night-at-Cheltenham.jpg
END:VEVENT
BEGIN:VEVENT
DTSTART;TZID=Europe/London:20240728T120000
DTEND;TZID=Europe/London:20240728T160000
DTSTAMP:20260425T155248
CREATED:20240622T091630Z
LAST-MODIFIED:20240622T091631Z
UID:1883-1722168000-1722182400@www.3cljc.org.uk
SUMMARY:3CLJC summer lunch
DESCRIPTION:Members and prospective members are invited to our annual 3CLJC summer lunch at the home of a community member.  The lunch will be in the garden with a swimming pool and plenty of games\, a wonderful family event.   More details\, including address and  confirmed times\, will be in the bulletin near to the date.
URL:https://www.3cljc.org.uk/event/summer-lunch-3/
CATEGORIES:Dinners,Social,Young Adults
ATTACH;FMTTYPE=image/jpeg:https://www.3cljc.org.uk/wp-content/uploads/2023/07/summer-lunch-2022.jpg
END:VEVENT
BEGIN:VEVENT
DTSTART;TZID=Europe/London:20240721T150000
DTEND;TZID=Europe/London:20240721T170000
DTSTAMP:20260425T155248
CREATED:20240627T090207Z
LAST-MODIFIED:20240627T090209Z
UID:1888-1721574000-1721581200@www.3cljc.org.uk
SUMMARY:FORUM ON THE NEW DIRECTION FOR PROGRESSIVE JUDAISM
DESCRIPTION:Rabbis Josh Levy (Reform) and Charley Baginsky (Liberal) will talk about the latest developments in the move to a united Progressive Judaism movement\, followed by tea\, cake and discussion.  More details in the bulletin
URL:https://www.3cljc.org.uk/event/united-progressive-judaism-movement/
CATEGORIES:Event
ATTACH;FMTTYPE=image/jpeg:https://www.3cljc.org.uk/wp-content/uploads/2024/06/hi-res-LJlogoNobg.jpg
END:VEVENT
BEGIN:VEVENT
DTSTART;TZID=Europe/London:20240717T120000
DTEND;TZID=Europe/London:20240717T150000
DTSTAMP:20260425T155248
CREATED:20240627T085418Z
LAST-MODIFIED:20240627T085420Z
UID:1886-1721217600-1721228400@www.3cljc.org.uk
SUMMARY:Daytime Social
DESCRIPTION:This month the daytime social will be a lunch at a member’s home\, north of the three counties area.  For more information please see the bulletin.
URL:https://www.3cljc.org.uk/event/daytime-social-4/
CATEGORIES:Social
ATTACH;FMTTYPE=image/jpeg:https://www.3cljc.org.uk/wp-content/uploads/2022/11/Food.jpg
END:VEVENT
BEGIN:VEVENT
DTSTART;TZID=Europe/London:20240713T110000
DTEND;TZID=Europe/London:20240713T133000
DTSTAMP:20260425T155248
CREATED:20240418T094433Z
LAST-MODIFIED:20240418T094434Z
UID:1852-1720868400-1720877400@www.3cljc.org.uk
SUMMARY:Shabbat Service
DESCRIPTION:Join Rabbi Anna Gerrard for this Shabbat service in Gloucester. This will be followed by a kiddush and a bring and share lunch. For more details see bulletin.
URL:https://www.3cljc.org.uk/event/shabbat-service-14/
CATEGORIES:Services
ATTACH;FMTTYPE=image/jpeg:https://www.3cljc.org.uk/wp-content/uploads/2022/11/73d1f5b0-2a40-44e9-b985-99f75dc54246.jpg
END:VEVENT
BEGIN:VEVENT
DTSTART;TZID=Europe/London:20240704T193000
DTEND;TZID=Europe/London:20240704T204500
DTSTAMP:20260425T155248
CREATED:20240418T090848Z
LAST-MODIFIED:20240418T090849Z
UID:1840-1720121400-1720125900@www.3cljc.org.uk
SUMMARY:Learning Circle - Jewish Folklore
DESCRIPTION:3CLJC runs an adult ‘Learning Circle’ that offers Jewish learning for all members and is suitable for those wishing to convert to Liberal Judaism. The learning circle is on zoom and more details of the topic\, along with the zoom link\, will be in the bulletin nearer the time. Please note this is a members only event\, and it is run on a drop in basis.
URL:https://www.3cljc.org.uk/event/learning-circle-jewish-folklore-2/
CATEGORIES:Adult Learning,Education
ATTACH;FMTTYPE=image/jpeg:https://www.3cljc.org.uk/wp-content/uploads/2024/04/World-Jewish-Folklore.jpg
END:VEVENT
BEGIN:VEVENT
DTSTART;TZID=Europe/London:20240629T110000
DTEND;TZID=Europe/London:20240629T133000
DTSTAMP:20260425T155248
CREATED:20240418T094027Z
LAST-MODIFIED:20240418T094029Z
UID:1850-1719658800-1719667800@www.3cljc.org.uk
SUMMARY:Shabbat Service
DESCRIPTION:Join Guest Rabbi Danny Rich for this Shabbat service in Gloucester. This will be followed by a kiddush and a bring and share lunch. For more details see bulletin.
URL:https://www.3cljc.org.uk/event/shabbat-service-13/
CATEGORIES:Services
ATTACH;FMTTYPE=image/jpeg:https://www.3cljc.org.uk/wp-content/uploads/2022/05/Saturday-morning-service-scaled.jpg
END:VEVENT
BEGIN:VEVENT
DTSTART;TZID=Europe/London:20240628T180000
DTEND;TZID=Europe/London:20240628T220000
DTSTAMP:20260425T155248
CREATED:20240418T095549Z
LAST-MODIFIED:20240418T095550Z
UID:1854-1719597600-1719612000@www.3cljc.org.uk
SUMMARY:Friday Night Dinners
DESCRIPTION:We will be holding a number of Friday Night Dinners at members homes throughout the 3 counties area. In the past we have had more than 80 members hosting or attending a dinner all on the same evening.  Details will be in an invite to members nearer the time.  If anyone would like host please let Rabbi Anna know.
URL:https://www.3cljc.org.uk/event/friday-night-dinners-2/
CATEGORIES:Dinners,Event,Social
ATTACH;FMTTYPE=image/jpeg:https://www.3cljc.org.uk/wp-content/uploads/2024/04/FND.jpg
END:VEVENT
BEGIN:VEVENT
DTSTART;TZID=Europe/London:20240620T193000
DTEND;TZID=Europe/London:20240620T204500
DTSTAMP:20260425T155248
CREATED:20240418T090717Z
LAST-MODIFIED:20240418T090718Z
UID:1838-1718911800-1718916300@www.3cljc.org.uk
SUMMARY:Learning Circle - Jewish Folklore
DESCRIPTION:3CLJC runs an adult ‘Learning Circle’ that offers Jewish learning for all members and is suitable for those wishing to convert to Liberal Judaism. The learning circle is on zoom and more details of the topic\, along with the zoom link\, will be in the bulletin nearer the time. Please note this is a members only event\, and it is run on a drop in basis.
URL:https://www.3cljc.org.uk/event/learning-circle-jewish-folklore/
CATEGORIES:Adult Learning,Education
ATTACH;FMTTYPE=image/jpeg:https://www.3cljc.org.uk/wp-content/uploads/2024/04/World-Jewish-Folklore.jpg
END:VEVENT
BEGIN:VEVENT
DTSTART;TZID=Europe/London:20240615T110000
DTEND;TZID=Europe/London:20240615T130000
DTSTAMP:20260425T155248
CREATED:20240418T093550Z
LAST-MODIFIED:20240418T093551Z
UID:1847-1718449200-1718456400@www.3cljc.org.uk
SUMMARY:Anne Frank Shabbat Service
DESCRIPTION:Join Rabbi Anna Gerrard for our annual Anne Frank Shabbat service in Hereford. This is the week of Anne’s birthday and many locals join us for this service. The annual memorial has become a tradition at Three Counties Liberal Jewish Community\, but please note that due to unforeseen circumstances there is a change in venue this year. \n\n\n\nThis service will be followed by kiddush and a bring and share lunch.  Full details\, including new venue\, will be given in the bulletin nearer the time.
URL:https://www.3cljc.org.uk/event/anne-frank-shabbat-service/
CATEGORIES:Services
ATTACH;FMTTYPE=image/jpeg:https://www.3cljc.org.uk/wp-content/uploads/2024/04/Anne_Frank_passport_photo_May_1942.jpg
END:VEVENT
BEGIN:VEVENT
DTSTART;TZID=Europe/London:20240606T193000
DTEND;TZID=Europe/London:20240606T204500
DTSTAMP:20260425T155248
CREATED:20240418T090238Z
LAST-MODIFIED:20240418T090514Z
UID:1831-1717702200-1717706700@www.3cljc.org.uk
SUMMARY:Learning Circle - Jewish Folklore
DESCRIPTION:3CLJC runs an adult ‘Learning Circle’ that offers Jewish learning for all members and is suitable for those wishing to convert to Liberal Judaism. The learning circle is on zoom and more details of the topic\, along with the zoom link\, will be in the bulletin nearer the time. Please note this is a members only event\, and it is run on a drop in basis.
URL:https://www.3cljc.org.uk/event/learning-circle-21/
CATEGORIES:Adult Learning,Education
ATTACH;FMTTYPE=image/jpeg:https://www.3cljc.org.uk/wp-content/uploads/2024/04/World-Jewish-Folklore.jpg
END:VEVENT
BEGIN:VEVENT
DTSTART;TZID=Europe/London:20240601T110000
DTEND;TZID=Europe/London:20240601T133000
DTSTAMP:20260425T155248
CREATED:20240418T091623Z
LAST-MODIFIED:20240418T092252Z
UID:1842-1717239600-1717248600@www.3cljc.org.uk
SUMMARY:Shabbat and Bar Mitzvah service
DESCRIPTION:Join Rabbi Anna and family for this wonderful Shabbat service\, incorporating Josh’s Bar Mitzvah\, at a venue just outside Gloucester. This will be followed by kiddush.  Full details will be in the bulletin nearer the time.
URL:https://www.3cljc.org.uk/event/shabbat-and-bar-mitzvah-service/
CATEGORIES:Bar/Bat Mitzvah,Event,Services
ATTACH;FMTTYPE=image/jpeg:https://www.3cljc.org.uk/wp-content/uploads/2021/02/A-BM.jpg
END:VEVENT
BEGIN:VEVENT
DTSTART;TZID=Europe/London:20240519T150000
DTEND;TZID=Europe/London:20240519T170000
DTSTAMP:20260425T155248
CREATED:20240209T160222Z
LAST-MODIFIED:20240209T160224Z
UID:1805-1716130800-1716138000@www.3cljc.org.uk
SUMMARY:Cheder
DESCRIPTION:3CLJC will be holding Cheder classes approximately once a month in members homes. For more details including locations and times please get in touch with Rabbi Anna if you are a member\, or contact the membership officer through the contact form on this website.
URL:https://www.3cljc.org.uk/event/cheder-classes-2/
CATEGORIES:Cheder,Education
ATTACH;FMTTYPE=image/jpeg:https://www.3cljc.org.uk/wp-content/uploads/2024/02/Cheder-Sweets.jpg
END:VEVENT
BEGIN:VEVENT
DTSTART;TZID=Europe/London:20240518T110000
DTEND;TZID=Europe/London:20240518T133000
DTSTAMP:20260425T155248
CREATED:20240209T154911Z
LAST-MODIFIED:20240313T110547Z
UID:1803-1716030000-1716039000@www.3cljc.org.uk
SUMMARY:Shabbat Service
DESCRIPTION:This service in Gloucester will be led by Rabbis Charley Baginsky (Liberal) and Josh Levy (Reform).  Following the service there will be a discussion about the move to a United Progressive Movement.  We will then have our usual Kiddush and bring & share lunch.  Full details will be in the bulletin nearer the time.
URL:https://www.3cljc.org.uk/event/shabbat-service-12/
CATEGORIES:Services
ATTACH;FMTTYPE=image/jpeg:https://www.3cljc.org.uk/wp-content/uploads/2022/02/Sefer-Torah.jpg
END:VEVENT
BEGIN:VEVENT
DTSTART;TZID=Europe/London:20240516T193000
DTEND;TZID=Europe/London:20240516T204500
DTSTAMP:20260425T155248
CREATED:20240209T153346Z
LAST-MODIFIED:20240418T085612Z
UID:1797-1715887800-1715892300@www.3cljc.org.uk
SUMMARY:Learning Circle
DESCRIPTION:Great Jewish Philosophers:  Abraham Joshua Heschel. \n\n\n\n3CLJC runs an adult ‘Learning Circle’ that offers Jewish learning for all members and is suitable for those wishing to convert to Liberal Judaism. The learning circle is on zoom and more details of the topic\, along with the zoom link\, will be in the bulletin nearer the time. Please note this is a members only event\, and it is run on a drop in basis.
URL:https://www.3cljc.org.uk/event/abraham-joshua-heschel/
CATEGORIES:Adult Learning,Education
ATTACH;FMTTYPE=image/jpeg:https://www.3cljc.org.uk/wp-content/uploads/2024/02/Image-Abraham-Joshua-Heschel.jpg
END:VEVENT
BEGIN:VEVENT
DTSTART;TZID=Europe/London:20240503T183000
DTEND;TZID=Europe/London:20240503T210000
DTSTAMP:20260425T155248
CREATED:20240209T154443Z
LAST-MODIFIED:20240313T110637Z
UID:1801-1714761000-1714770000@www.3cljc.org.uk
SUMMARY:Bring a Friend and Friday Night Shabbat Service with Shared Supper
DESCRIPTION:Many of our members have Jewish friends in the area who are not currently members of any Jewish community.  Rabbi Anna Gerrard invites you and your Jewish friends to this Friday Night Shabbat service in Gloucester. This will be followed by a kiddush and a shared supper. For further details\, including exact times and location see bulletin.
URL:https://www.3cljc.org.uk/event/friday-night-service/
CATEGORIES:Services
ATTACH;FMTTYPE=image/jpeg:https://www.3cljc.org.uk/wp-content/uploads/2022/03/Friday-night-dinner.jpg
END:VEVENT
BEGIN:VEVENT
DTSTART;TZID=Europe/London:20240502T193000
DTEND;TZID=Europe/London:20240502T204500
DTSTAMP:20260425T155248
CREATED:20240209T152412Z
LAST-MODIFIED:20240418T085544Z
UID:1793-1714678200-1714682700@www.3cljc.org.uk
SUMMARY:Learning Circle
DESCRIPTION:Great Jewish Philosophers:  Martin Buber.   \n\n\n\n3CLJC runs an adult ‘Learning Circle’ that offers Jewish learning for all members and is suitable for those wishing to convert to Liberal Judaism. The learning circle is on zoom and more details of the topic\, along with the zoom link\, will be in the bulletin nearer the time. Please note this is a members only event\, and it is run on a drop in basis.
URL:https://www.3cljc.org.uk/event/martin-bube/
CATEGORIES:Adult Learning,Education
ATTACH;FMTTYPE=image/jpeg:https://www.3cljc.org.uk/wp-content/uploads/2024/02/Image-Martin-Buber.jpg
END:VEVENT
END:VCALENDAR