BEGIN:VCALENDAR
VERSION:2.0
PRODID:-//Three Counties Liberal Jewish Community - ECPv6.15.20//NONSGML v1.0//EN
CALSCALE:GREGORIAN
METHOD:PUBLISH
X-WR-CALNAME:Three Counties Liberal Jewish Community
X-ORIGINAL-URL:https://www.3cljc.org.uk
X-WR-CALDESC:Events for Three Counties Liberal Jewish Community
REFRESH-INTERVAL;VALUE=DURATION:PT1H
X-Robots-Tag:noindex
X-PUBLISHED-TTL:PT1H
BEGIN:VTIMEZONE
TZID:Europe/London
BEGIN:DAYLIGHT
TZOFFSETFROM:+0000
TZOFFSETTO:+0100
TZNAME:BST
DTSTART:20240331T010000
END:DAYLIGHT
BEGIN:STANDARD
TZOFFSETFROM:+0100
TZOFFSETTO:+0000
TZNAME:GMT
DTSTART:20241027T010000
END:STANDARD
BEGIN:DAYLIGHT
TZOFFSETFROM:+0000
TZOFFSETTO:+0100
TZNAME:BST
DTSTART:20250330T010000
END:DAYLIGHT
BEGIN:STANDARD
TZOFFSETFROM:+0100
TZOFFSETTO:+0000
TZNAME:GMT
DTSTART:20251026T010000
END:STANDARD
BEGIN:DAYLIGHT
TZOFFSETFROM:+0000
TZOFFSETTO:+0100
TZNAME:BST
DTSTART:20260329T010000
END:DAYLIGHT
BEGIN:STANDARD
TZOFFSETFROM:+0100
TZOFFSETTO:+0000
TZNAME:GMT
DTSTART:20261025T010000
END:STANDARD
END:VTIMEZONE
BEGIN:VEVENT
DTSTART;TZID=Europe/London:20250717T193000
DTEND;TZID=Europe/London:20250717T204500
DTSTAMP:20260425T112515
CREATED:20250330T134422Z
LAST-MODIFIED:20250330T134623Z
UID:2059-1752780600-1752785100@www.3cljc.org.uk
SUMMARY:Learning Circle Online Study
DESCRIPTION:3CLJC runs an adult online ‘Learning Circle’\, where we meet on zoom to study Jewish topics together.
URL:https://www.3cljc.org.uk/event/learning-circle-studing-together-online-2-2/
CATEGORIES:Adult Learning
ATTACH;FMTTYPE=image/jpeg:https://www.3cljc.org.uk/wp-content/uploads/2025/03/learning-circle-3.jpeg
END:VEVENT
BEGIN:VEVENT
DTSTART;TZID=Europe/London:20250703T193000
DTEND;TZID=Europe/London:20250703T194500
DTSTAMP:20260425T112515
CREATED:20250330T134106Z
LAST-MODIFIED:20250330T134724Z
UID:2057-1751571000-1751571900@www.3cljc.org.uk
SUMMARY:Learning Circle Online Study
DESCRIPTION:3CLJC runs an adult online ‘Learning Circle’\, where we meet on zoom to study Jewish topics together.
URL:https://www.3cljc.org.uk/event/learning-circle-studing-together-online-4/
CATEGORIES:Adult Learning
ATTACH;FMTTYPE=image/jpeg:https://www.3cljc.org.uk/wp-content/uploads/2025/03/learning-circle-2.jpeg
END:VEVENT
BEGIN:VEVENT
DTSTART;TZID=Europe/London:20250622T143000
DTEND;TZID=Europe/London:20250622T163000
DTSTAMP:20260425T112515
CREATED:20250128T135835Z
LAST-MODIFIED:20250330T135240Z
UID:2009-1750602600-1750609800@www.3cljc.org.uk
SUMMARY:Cheder
DESCRIPTION:Creative Jewish learning for 3-12 year olds and their parents – please contact shalom@3cljc.org.uk for more information.
URL:https://www.3cljc.org.uk/event/jewish-learning/
CATEGORIES:Cheder,Education
ATTACH;FMTTYPE=image/jpeg:https://www.3cljc.org.uk/wp-content/uploads/2025/03/cheder-2.jpeg
END:VEVENT
BEGIN:VEVENT
DTSTART;TZID=Europe/London:20250619T193000
DTEND;TZID=Europe/London:20250619T194500
DTSTAMP:20260425T112515
CREATED:20250330T133650Z
LAST-MODIFIED:20250330T133659Z
UID:2055-1750361400-1750362300@www.3cljc.org.uk
SUMMARY:Learning Circle Online Study
DESCRIPTION:3CLJC runs an adult online ‘Learning Circle’\, where we meet on zoom to study Jewish topics together.
URL:https://www.3cljc.org.uk/event/learning-circle-studing-together-online-3/
CATEGORIES:Adult Learning
ATTACH;FMTTYPE=image/jpeg:https://www.3cljc.org.uk/wp-content/uploads/2025/03/learning-circle-4.jpeg
END:VEVENT
BEGIN:VEVENT
DTSTART;TZID=Europe/London:20250614T120000
DTEND;TZID=Europe/London:20250614T143000
DTSTAMP:20260425T112515
CREATED:20250330T162104Z
LAST-MODIFIED:20250330T162106Z
UID:2087-1749902400-1749911400@www.3cljc.org.uk
SUMMARY:Shabbat Service and Lunch
DESCRIPTION:Join us for special Shabbat Service remembering Anne Frank and her legacy. The service will be followed by a brings and share lunch.
URL:https://www.3cljc.org.uk/event/shabbat-service-lunch/
CATEGORIES:Lunch,Services
ATTACH;FMTTYPE=image/jpeg:https://www.3cljc.org.uk/wp-content/uploads/2024/04/Anne_Frank_passport_photo_May_1942.jpg
END:VEVENT
BEGIN:VEVENT
DTSTART;TZID=Europe/London:20250605T193000
DTEND;TZID=Europe/London:20250605T194500
DTSTAMP:20260425T112515
CREATED:20250330T133253Z
LAST-MODIFIED:20250330T133318Z
UID:2053-1749151800-1749152700@www.3cljc.org.uk
SUMMARY:Learning Circle Online Study
DESCRIPTION:3CLJC runs an adult online ‘Learning Circle’\, where we meet on zoom to study Jewish topics together.
URL:https://www.3cljc.org.uk/event/learning-circle-studing-together-online-2/
CATEGORIES:Adult Learning
ATTACH;FMTTYPE=image/jpeg:https://www.3cljc.org.uk/wp-content/uploads/2025/03/learning-circle-1.jpeg
END:VEVENT
BEGIN:VEVENT
DTSTART;TZID=Europe/London:20250601T150000
DTEND;TZID=Europe/London:20250601T170000
DTSTAMP:20260425T112515
CREATED:20250330T161340Z
LAST-MODIFIED:20250330T161343Z
UID:2084-1748790000-1748797200@www.3cljc.org.uk
SUMMARY:Shavuot Service\, Bat Mitzvah and Afternoon Tea
DESCRIPTION:A double celebration: Shavuot Afternoon Service and a Bat Mitzvah. These will be followed by bring and share afternoon tea.
URL:https://www.3cljc.org.uk/event/shavuot-service-bat-mitzvah-afternoon-tea/
CATEGORIES:Afternoon Tea,Bar/Bat Mitzvah,Jewish Festival,Services
ATTACH;FMTTYPE=image/jpeg:https://www.3cljc.org.uk/wp-content/uploads/2025/03/shavuot-2.jpeg
END:VEVENT
BEGIN:VEVENT
DTSTART;TZID=Europe/London:20250524T110000
DTEND;TZID=Europe/London:20250524T133000
DTSTAMP:20260425T112515
CREATED:20250330T155648Z
LAST-MODIFIED:20250330T160546Z
UID:2078-1748084400-1748093400@www.3cljc.org.uk
SUMMARY:Shabbat Morning Service
DESCRIPTION:Join the community for Shabbat Morning Service held online and led by Rabbi Danny.
URL:https://www.3cljc.org.uk/event/shabbat-morning-service-2/
CATEGORIES:Services
ATTACH;FMTTYPE=image/jpeg:https://www.3cljc.org.uk/wp-content/uploads/2025/03/cheder-4.jpeg
END:VEVENT
BEGIN:VEVENT
DTSTART;TZID=Europe/London:20250523T183000
DTEND;TZID=Europe/London:20250523T203000
DTSTAMP:20260425T112515
CREATED:20250330T155007Z
LAST-MODIFIED:20250330T155926Z
UID:2069-1748025000-1748032200@www.3cljc.org.uk
SUMMARY:Friday Night Service
DESCRIPTION:Join the community for Friday Night Service held in Gloucester and led by Rabbi Danny and a bring and share supper.
URL:https://www.3cljc.org.uk/event/friday-night-service-2/
LOCATION:Gloucester
CATEGORIES:Services,Supper
ATTACH;FMTTYPE=image/jpeg:https://www.3cljc.org.uk/wp-content/uploads/2025/03/service-1.jpeg
END:VEVENT
BEGIN:VEVENT
DTSTART;TZID=Europe/London:20250518T143000
DTEND;TZID=Europe/London:20250518T163000
DTSTAMP:20260425T112515
CREATED:20250128T135359Z
LAST-MODIFIED:20250330T135034Z
UID:2006-1747578600-1747585800@www.3cljc.org.uk
SUMMARY:Cheder
DESCRIPTION:Creative Jewish learning for 3-12 year olds and their parents – please contact shalom@3cljc.org.uk for more information.
URL:https://www.3cljc.org.uk/event/creative-jewish-learning/
CATEGORIES:Cheder,Education
ATTACH;FMTTYPE=image/jpeg:https://www.3cljc.org.uk/wp-content/uploads/2025/03/cheder-5.jpeg
END:VEVENT
BEGIN:VEVENT
DTSTART;TZID=Europe/London:20250515T193000
DTEND;TZID=Europe/London:20250515T194500
DTSTAMP:20260425T112515
CREATED:20250330T131524Z
LAST-MODIFIED:20250330T131651Z
UID:2039-1747337400-1747338300@www.3cljc.org.uk
SUMMARY:Learning Circle Online Study
DESCRIPTION:3CLJC runs an adult online ‘Learning Circle’\, where we meet on zoom to study Jewish topics together.
URL:https://www.3cljc.org.uk/event/learning-circle-studing-together-online/
CATEGORIES:Adult Learning
ATTACH;FMTTYPE=image/jpeg:https://www.3cljc.org.uk/wp-content/uploads/2025/03/learning-circle-3.jpeg
END:VEVENT
BEGIN:VEVENT
DTSTART;TZID=Europe/London:20250509T183000
DTEND;TZID=Europe/London:20250509T203000
DTSTAMP:20260425T112515
CREATED:20250216T142746Z
LAST-MODIFIED:20250330T140147Z
UID:2030-1746815400-1746822600@www.3cljc.org.uk
SUMMARY:Friday Night Dinner
DESCRIPTION:Community members will be hosting Friday Night Dinners at their homes throughout the 3 counties area to welcome the Shabbat together. Last year more than 100 members hosted or attended dinner all on the same evening.Details will be shared in an invite to members nearer the time. If anyone would like host Friday Night Dinner\, please let Rabbi Anna know.
URL:https://www.3cljc.org.uk/event/friday-night-dinner-shabbath/
CATEGORIES:Dinners,Social
ATTACH;FMTTYPE=image/jpeg:https://www.3cljc.org.uk/wp-content/uploads/2025/02/Dinner.jpeg
END:VEVENT
BEGIN:VEVENT
DTSTART;TZID=Europe/London:20250501T193000
DTEND;TZID=Europe/London:20250501T204500
DTSTAMP:20260425T112515
CREATED:20250216T135734Z
LAST-MODIFIED:20250216T141633Z
UID:2023-1746127800-1746132300@www.3cljc.org.uk
SUMMARY:Learning Circle
DESCRIPTION:3CLJC runs an adult Learning Circle\, offering Jewish learning for all members. It is also suitable for those wishing to convert to Liberal Judaism. Learning Circles are open to all members\, and you are welcome to dip in and out depending on the topics. Prospective members can try out a couple of Learning Circle sessions before joining the community. The learning circle is hosted online on zoom. \n\n\n\nMore details of the topic\, along with the zoom link\, will be shared in the bulletin nearer the time.
URL:https://www.3cljc.org.uk/event/learning-circle-study-knowledge/
LOCATION:Online
CATEGORIES:Adult Learning,Education
ATTACH;FMTTYPE=image/jpeg:https://www.3cljc.org.uk/wp-content/uploads/2024/12/Amidah.jpg
END:VEVENT
BEGIN:VEVENT
DTSTART;TZID=Europe/London:20250426T110000
DTEND;TZID=Europe/London:20250426T133000
DTSTAMP:20260425T112515
CREATED:20250201T144358Z
LAST-MODIFIED:20250201T144359Z
UID:2017-1745665200-1745674200@www.3cljc.org.uk
SUMMARY:Shabbat Morning Service and Lunch
DESCRIPTION:Join with the community for this Shabbat service in Gloucester. This will be followed by a kiddush and a bring and share lunch. For further details see bulletin.
URL:https://www.3cljc.org.uk/event/shabbat-service-and-lunch/
CATEGORIES:Services
ATTACH;FMTTYPE=image/jpeg:https://www.3cljc.org.uk/wp-content/uploads/2022/02/Scroll-finials.jpg
END:VEVENT
BEGIN:VEVENT
DTSTART;TZID=Europe/London:20250412T180000
DTEND;TZID=Europe/London:20250412T210000
DTSTAMP:20260425T112515
CREATED:20250201T145628Z
LAST-MODIFIED:20250201T145629Z
UID:2019-1744480800-1744491600@www.3cljc.org.uk
SUMMARY:Communal Passover Seder
DESCRIPTION:Our communal Seder will be the first night of Pesach this year at the usual venue\, and will be lead by Rabbi Anna Gerrard. Full details will be sent out to members and prospective members in the bulletin nearer the time.
URL:https://www.3cljc.org.uk/event/communal-passover-seder/
CATEGORIES:Dinners,Jewish Festival,Services
ATTACH;FMTTYPE=image/jpeg:https://www.3cljc.org.uk/wp-content/uploads/2023/05/Seder-plate-2.jpg
END:VEVENT
BEGIN:VEVENT
DTSTART;TZID=Europe/London:20250410T193000
DTEND;TZID=Europe/London:20250410T204500
DTSTAMP:20260425T112515
CREATED:20250129T171804Z
LAST-MODIFIED:20250129T171806Z
UID:2015-1744313400-1744317900@www.3cljc.org.uk
SUMMARY:Learning Circle
DESCRIPTION:Pesach and Social Justice \n\n\n\n3CLJC runs an adult ‘Learning Circle’ that offers Jewish learning for all members and is suitable for those wishing to convert to Liberal Judaism. The learning circle is on zoom and more details of the topic\, along with the zoom link\, will be in the bulletin nearer the time. Learning Circle is open to all members and you are welcome to dip in and out of the topics.  Potential members can try out a couple of Learning Circle sessions before joining.
URL:https://www.3cljc.org.uk/event/pesach-and-social-justice/
CATEGORIES:Adult Learning,Education
ATTACH;FMTTYPE=image/jpeg:https://www.3cljc.org.uk/wp-content/uploads/2022/02/Pesach.jpg
END:VEVENT
BEGIN:VEVENT
DTSTART;TZID=Europe/London:20250330T143000
DTEND;TZID=Europe/London:20250330T163000
DTSTAMP:20260425T112515
CREATED:20250127T172014Z
LAST-MODIFIED:20250127T172600Z
UID:2003-1743345000-1743352200@www.3cljc.org.uk
SUMMARY:Cheder
DESCRIPTION:Creative Jewish learning for 3-12 year olds and their parents – please contact shalom@3cljc.org.uk for more information.
URL:https://www.3cljc.org.uk/event/cheder-6/
CATEGORIES:Cheder,Education
ATTACH;FMTTYPE=image/jpeg:https://www.3cljc.org.uk/wp-content/uploads/2022/02/Challah-Making.jpg
END:VEVENT
BEGIN:VEVENT
DTSTART;TZID=Europe/London:20250328T183000
DTEND;TZID=Europe/London:20250328T203000
DTSTAMP:20260425T112515
CREATED:20250127T171155Z
LAST-MODIFIED:20250127T171157Z
UID:2001-1743186600-1743193800@www.3cljc.org.uk
SUMMARY:Friday Night Service and Supper
DESCRIPTION:A very special Friday Night Service.  We will be welcoming a group of young Israelis and Palestinians  from “Solutions not Sides” leading a discussion on the current devastating situation in the Middle East.  This service will be held in Gloucester with a bring and share supper.  See bulletin for more details.
URL:https://www.3cljc.org.uk/event/friday-night-supper/
CATEGORIES:Dinners,Services
ATTACH;FMTTYPE=image/jpeg:https://www.3cljc.org.uk/wp-content/uploads/2024/04/Friday-Night-at-Cheltenham.jpg
END:VEVENT
BEGIN:VEVENT
DTSTART;TZID=Europe/London:20250327T193000
DTEND;TZID=Europe/London:20250327T204500
DTSTAMP:20260425T112515
CREATED:20241222T142935Z
LAST-MODIFIED:20250109T104114Z
UID:1982-1743103800-1743108300@www.3cljc.org.uk
SUMMARY:Learning Circle
DESCRIPTION:The Amidah: What\, Why and How\, Part 3 \n\n\n\n3CLJC runs an adult ‘Learning Circle’ that offers Jewish learning for all members and is suitable for those wishing to convert to Liberal Judaism. The learning circle is on zoom and more details of the topic\, along with the zoom link\, will be in the bulletin nearer the time. Learning Circle is open to all members and you are welcome to dip in and out of the topics.  Potential members can try out a couple of Learning Circle sessions before joining.
URL:https://www.3cljc.org.uk/event/learning-circle-27/
CATEGORIES:Adult Learning,Education
ATTACH;FMTTYPE=image/jpeg:https://www.3cljc.org.uk/wp-content/uploads/2024/12/Amidah.jpg
END:VEVENT
BEGIN:VEVENT
DTSTART;TZID=Europe/London:20250316T150000
DTEND;TZID=Europe/London:20250316T170000
DTSTAMP:20260425T112515
CREATED:20241222T134803Z
LAST-MODIFIED:20241222T134806Z
UID:1965-1742137200-1742144400@www.3cljc.org.uk
SUMMARY:Purim Party
DESCRIPTION:Purim celebrates the deliverance of the Jewish people from the wicked Haman in the days of Queen Esther of Persia. It is often celebrated with a party and dressing up. \n\n\n\nWe will be holding a Purim Party in Gloucester\, join Rabbi Anna and other members of our community young and old for an afternoon of fun\, games and of course\, tea & cake.
URL:https://www.3cljc.org.uk/event/purim-party-3/
CATEGORIES:Afternoon Tea,Cheder,Jewish Festival
ATTACH;FMTTYPE=image/jpeg:https://www.3cljc.org.uk/wp-content/uploads/2024/12/Purim-24.jpg
END:VEVENT
BEGIN:VEVENT
DTSTART;TZID=Europe/London:20250313T193000
DTEND;TZID=Europe/London:20250313T204500
DTSTAMP:20260425T112515
CREATED:20241222T142806Z
LAST-MODIFIED:20250109T103448Z
UID:1980-1741894200-1741898700@www.3cljc.org.uk
SUMMARY:Learning Circle
DESCRIPTION:The Amidah: What\, Why and How\, Part 2 \n\n\n\n3CLJC runs an adult ‘Learning Circle’ that offers Jewish learning for all members and is suitable for those wishing to convert to Liberal Judaism. The learning circle is on zoom and more details of the topic\, along with the zoom link\, will be in the bulletin nearer the time. Learning Circle is open to all members and you are welcome to dip in and out of the topics.  Potential members can try out a couple of Learning Circle sessions before joining.
URL:https://www.3cljc.org.uk/event/learning-circle-26/
CATEGORIES:Adult Learning,Education
ATTACH;FMTTYPE=image/jpeg:https://www.3cljc.org.uk/wp-content/uploads/2024/12/Amidah.jpg
END:VEVENT
BEGIN:VEVENT
DTSTART;TZID=Europe/London:20250308T110000
DTEND;TZID=Europe/London:20250308T133000
DTSTAMP:20260425T112515
CREATED:20241222T133505Z
LAST-MODIFIED:20241222T134907Z
UID:1963-1741431600-1741440600@www.3cljc.org.uk
SUMMARY:Shabbat Morning service and Bat Mitzvah
DESCRIPTION:Join Rabbi Anna and the family of Maxine for a Shabbat and Bat Mitzvah service near Cheltenham. There will be a kiddush and lunch after. Full details will be in the bulletin.
URL:https://www.3cljc.org.uk/event/shabbat-morning-service-and-bat-mitzvah/
CATEGORIES:Bar/Bat Mitzvah,Event,Services
ATTACH;FMTTYPE=image/jpeg:https://www.3cljc.org.uk/wp-content/uploads/2024/12/Bat-Mitzvah.jpg
END:VEVENT
BEGIN:VEVENT
DTSTART;TZID=Europe/London:20250227T193000
DTEND;TZID=Europe/London:20250227T204500
DTSTAMP:20260425T112515
CREATED:20241222T142608Z
LAST-MODIFIED:20250109T103910Z
UID:1977-1740684600-1740689100@www.3cljc.org.uk
SUMMARY:Learning Circle
DESCRIPTION:The Amidah: What\, Why and How\, Part 1 \n\n\n\n3CLJC runs an adult ‘Learning Circle’ that offers Jewish learning for all members and is suitable for those wishing to convert to Liberal Judaism. The learning circle is on zoom and more details of the topic\, along with the zoom link\, will be in the bulletin nearer the time. Learning Circle is open to all members and you are welcome to dip in and out of the topics.  Potential members can try out a couple of Learning Circle sessions before joining.
URL:https://www.3cljc.org.uk/event/learning-circle-25/
CATEGORIES:Adult Learning,Education
ATTACH;FMTTYPE=image/jpeg:https://www.3cljc.org.uk/wp-content/uploads/2024/12/Amidah.jpg
END:VEVENT
BEGIN:VEVENT
DTSTART;TZID=Europe/London:20250223T143000
DTEND;TZID=Europe/London:20250223T163000
DTSTAMP:20260425T112515
CREATED:20250126T130851Z
LAST-MODIFIED:20250126T130853Z
UID:1999-1740321000-1740328200@www.3cljc.org.uk
SUMMARY:Cheder
DESCRIPTION:Creative Jewish learning for 3-12 year olds and their parents – please contact shalom@3cljc.org.uk for more information.
URL:https://www.3cljc.org.uk/event/cheder-5/
CATEGORIES:Cheder,Education
ATTACH;FMTTYPE=image/jpeg:https://www.3cljc.org.uk/wp-content/uploads/2023/10/Sukkot-2023.jpg
END:VEVENT
BEGIN:VEVENT
DTSTART;TZID=Europe/London:20250222T110000
DTEND;TZID=Europe/London:20250222T133000
DTSTAMP:20260425T112515
CREATED:20241222T132947Z
LAST-MODIFIED:20241222T132949Z
UID:1960-1740222000-1740231000@www.3cljc.org.uk
SUMMARY:Shabbat Morning Service
DESCRIPTION:Join Rabbi Anna Gerrard for this Shabbat service in Gloucester. This will be followed by a kiddush and a bring and share lunch. For further details see bulletin.
URL:https://www.3cljc.org.uk/event/shabbat-morning-service/
CATEGORIES:Services
ATTACH;FMTTYPE=image/jpeg:https://www.3cljc.org.uk/wp-content/uploads/2024/12/10eb33e1-af07-4264-9ec5-5e29f34911b1.jpg
END:VEVENT
BEGIN:VEVENT
DTSTART;TZID=Europe/London:20250209T130000
DTEND;TZID=Europe/London:20250209T150000
DTSTAMP:20260425T112515
CREATED:20241222T132152Z
LAST-MODIFIED:20250119T173945Z
UID:1956-1739106000-1739113200@www.3cljc.org.uk
SUMMARY:Tu Bishvat Seder
DESCRIPTION:This year to celebrate Tu Bishvat we are holding a Tu Bishvat Seder and lunch in Gloucester.  See the bulletin for more details.
URL:https://www.3cljc.org.uk/event/tu-bishvat-2/
CATEGORIES:Event,Jewish Festival,Services
ATTACH;FMTTYPE=image/jpeg:https://www.3cljc.org.uk/wp-content/uploads/2022/11/Tu-Bishvat.jpg
END:VEVENT
BEGIN:VEVENT
DTSTART;TZID=Europe/London:20250206T193000
DTEND;TZID=Europe/London:20250206T204500
DTSTAMP:20260425T112515
CREATED:20241222T141810Z
LAST-MODIFIED:20250109T103805Z
UID:1973-1738870200-1738874700@www.3cljc.org.uk
SUMMARY:Learning Circle
DESCRIPTION:Ask The Rabbi \n\n\n\n3CLJC runs an adult ‘Learning Circle’ that offers Jewish learning for all members and is suitable for those wishing to convert to Liberal Judaism. The learning circle is on zoom and more details of the topic\, along with the zoom link\, will be in the bulletin nearer the time. Learning Circle is open to all members and you are welcome to dip in and out of the topics.  Potential members can try out a couple of Learning Circle sessions before joining.
URL:https://www.3cljc.org.uk/event/learning-circle-24/
CATEGORIES:Adult Learning,Education
ATTACH;FMTTYPE=image/jpeg:https://www.3cljc.org.uk/wp-content/uploads/2023/10/Rabbi-Anna-2023-1.jpg
END:VEVENT
BEGIN:VEVENT
DTSTART;TZID=Europe/London:20250127T000000
DTEND;TZID=Europe/London:20250127T235959
DTSTAMP:20260425T112515
CREATED:20241222T131704Z
LAST-MODIFIED:20241222T132534Z
UID:1954-1737936000-1738022399@www.3cljc.org.uk
SUMMARY:Holocaust Memorial Day
DESCRIPTION:January 27th is Holocaust Memorial Day and there will be various events around the 3 Counties area to commemorate Holocaust Memorial Day. \n\n\n\nCheltenham’s Act of remembrance for HMD is an evening which will include guest speakers on the theme ‘For a Better Future’\, music\, prayers and readings\, followed by an exhibition.  Tea coffee and cake will be served. \n\n\n\n Full details of this and other HMD events will be in the bulletin nearer the time.
URL:https://www.3cljc.org.uk/event/holocaust-memorial-day-4/
CATEGORIES:Event
ATTACH;FMTTYPE=image/png:https://www.3cljc.org.uk/wp-content/uploads/2023/05/image.png
END:VEVENT
BEGIN:VEVENT
DTSTART;TZID=Europe/London:20250126T143000
DTEND;TZID=Europe/London:20250126T163000
DTSTAMP:20260425T112515
CREATED:20241222T131114Z
LAST-MODIFIED:20250105T123014Z
UID:1952-1737901800-1737909000@www.3cljc.org.uk
SUMMARY:AGM
DESCRIPTION:The Annual General Meeting of the 3 Counties Liberal Jewish Community will take place in Gloucester.  This will be followed by tea and cakes.  Times here are approximate\, watch out for the special bulletin with all the information in\, to be released in early January.
URL:https://www.3cljc.org.uk/event/agm-3/
CATEGORIES:Afternoon Tea,Event,Social
ATTACH;FMTTYPE=image/png:https://www.3cljc.org.uk/wp-content/uploads/2021/12/3cljc-logo.png
END:VEVENT
BEGIN:VEVENT
DTSTART;TZID=Europe/London:20250125T110000
DTEND;TZID=Europe/London:20250125T133000
DTSTAMP:20260425T112515
CREATED:20241209T195713Z
LAST-MODIFIED:20241209T195714Z
UID:1949-1737802800-1737811800@www.3cljc.org.uk
SUMMARY:Shabbat Service
DESCRIPTION:Join Rabbi Anna Gerrard for this Shabbat service in Ross-on-Wye. This will be followed by a kiddush and a bring and share lunch. For further details see bulletin.
URL:https://www.3cljc.org.uk/event/shabbat-service-19/
CATEGORIES:Services
ATTACH;FMTTYPE=image/jpeg:https://www.3cljc.org.uk/wp-content/uploads/2022/02/Scroll-finials.jpg
END:VEVENT
END:VCALENDAR