BEGIN:VCALENDAR
VERSION:2.0
PRODID:-//Three Counties Liberal Jewish Community - ECPv6.15.20//NONSGML v1.0//EN
CALSCALE:GREGORIAN
METHOD:PUBLISH
X-WR-CALNAME:Three Counties Liberal Jewish Community
X-ORIGINAL-URL:https://www.3cljc.org.uk
X-WR-CALDESC:Events for Three Counties Liberal Jewish Community
REFRESH-INTERVAL;VALUE=DURATION:PT1H
X-Robots-Tag:noindex
X-PUBLISHED-TTL:PT1H
BEGIN:VTIMEZONE
TZID:Europe/London
BEGIN:DAYLIGHT
TZOFFSETFROM:+0000
TZOFFSETTO:+0100
TZNAME:BST
DTSTART:20240331T010000
END:DAYLIGHT
BEGIN:STANDARD
TZOFFSETFROM:+0100
TZOFFSETTO:+0000
TZNAME:GMT
DTSTART:20241027T010000
END:STANDARD
BEGIN:DAYLIGHT
TZOFFSETFROM:+0000
TZOFFSETTO:+0100
TZNAME:BST
DTSTART:20250330T010000
END:DAYLIGHT
BEGIN:STANDARD
TZOFFSETFROM:+0100
TZOFFSETTO:+0000
TZNAME:GMT
DTSTART:20251026T010000
END:STANDARD
BEGIN:DAYLIGHT
TZOFFSETFROM:+0000
TZOFFSETTO:+0100
TZNAME:BST
DTSTART:20260329T010000
END:DAYLIGHT
BEGIN:STANDARD
TZOFFSETFROM:+0100
TZOFFSETTO:+0000
TZNAME:GMT
DTSTART:20261025T010000
END:STANDARD
END:VTIMEZONE
BEGIN:VEVENT
DTSTART;TZID=Europe/London:20251107T183000
DTEND;TZID=Europe/London:20251107T203000
DTSTAMP:20260419T162443
CREATED:20250803T130315Z
LAST-MODIFIED:20250803T130353Z
UID:2164-1762540200-1762547400@www.3cljc.org.uk
SUMMARY:Friday Night Service and Supper
DESCRIPTION:Friday Night Service and bring and share supper.
URL:https://www.3cljc.org.uk/event/friday-night-service-3/
CATEGORIES:Services,Supper
ATTACH;FMTTYPE=image/jpeg:https://www.3cljc.org.uk/wp-content/uploads/2022/08/Candles.jpg
END:VEVENT
BEGIN:VEVENT
DTSTART;TZID=Europe/London:20251106T193000
DTEND;TZID=Europe/London:20251106T204500
DTSTAMP:20260419T162443
CREATED:20250803T125807Z
LAST-MODIFIED:20250803T125810Z
UID:2162-1762457400-1762461900@www.3cljc.org.uk
SUMMARY:Learning Circle Online Study
DESCRIPTION:3CLJC runs an adult online ‘Learning Circle’\, where we meet on zoom to study Jewish topics together.
URL:https://www.3cljc.org.uk/event/learning-circle-online-study-4/
CATEGORIES:Adult Learning,Education
ATTACH;FMTTYPE=image/jpeg:https://www.3cljc.org.uk/wp-content/uploads/2025/03/learning-circle-3.jpeg
END:VEVENT
BEGIN:VEVENT
DTSTART;TZID=Europe/London:20251024T170000
DTEND;TZID=Europe/London:20251026T170000
DTSTAMP:20260419T162443
CREATED:20250802T140712Z
LAST-MODIFIED:20250802T140715Z
UID:2157-1761325200-1761498000@www.3cljc.org.uk
SUMMARY:South West Chagigah
DESCRIPTION:Progressive Jews from 11 communities across the South West of England and South Wales will get together for a weekend long South West Chagigah (celebration) full of activities for all ages.
URL:https://www.3cljc.org.uk/event/south-west-chagigah/
CATEGORIES:Education,Event,Social
ATTACH;FMTTYPE=image/jpeg:https://www.3cljc.org.uk/wp-content/uploads/2025/08/Celebration.jpeg
END:VEVENT
BEGIN:VEVENT
DTSTART;TZID=Europe/London:20251023T193000
DTEND;TZID=Europe/London:20251023T204500
DTSTAMP:20260419T162443
CREATED:20250802T135554Z
LAST-MODIFIED:20250802T135605Z
UID:2155-1761247800-1761252300@www.3cljc.org.uk
SUMMARY:Learning Circle Online Study
DESCRIPTION:3CLJC runs an adult online ‘Learning Circle’\, where we meet on zoom to study Jewish topics together.
URL:https://www.3cljc.org.uk/event/learning-circle-online-study-3/
CATEGORIES:Adult Learning,Education
ATTACH;FMTTYPE=image/jpeg:https://www.3cljc.org.uk/wp-content/uploads/2025/03/cheder-4.jpeg
END:VEVENT
BEGIN:VEVENT
DTSTART;TZID=Europe/London:20251018T150000
DTEND;TZID=Europe/London:20251018T170000
DTSTAMP:20260419T162443
CREATED:20250802T135323Z
LAST-MODIFIED:20250802T135333Z
UID:2153-1760799600-1760806800@www.3cljc.org.uk
SUMMARY:Simchat Torah Service and Tea
DESCRIPTION:Celebrating Simchat Torah with an afternoon Service and Tea.
URL:https://www.3cljc.org.uk/event/simchat-torah-service-and-tea/
CATEGORIES:Jewish Festival,Services
ATTACH;FMTTYPE=image/jpeg:https://www.3cljc.org.uk/wp-content/uploads/2022/08/History.jpg
END:VEVENT
BEGIN:VEVENT
DTSTART;TZID=Europe/London:20251012T150000
DTEND;TZID=Europe/London:20251012T170000
DTSTAMP:20260419T162443
CREATED:20250802T135025Z
LAST-MODIFIED:20250802T135037Z
UID:2151-1760281200-1760288400@www.3cljc.org.uk
SUMMARY:Sukkot Tea
DESCRIPTION:Celebrating the Sukkot festival with an afternoon service and tea.
URL:https://www.3cljc.org.uk/event/sukkot-tea-2/
CATEGORIES:Jewish Festival,Services
ATTACH;FMTTYPE=image/jpeg:https://www.3cljc.org.uk/wp-content/uploads/2022/02/Sukkah-Header.jpg
END:VEVENT
BEGIN:VEVENT
DTSTART;TZID=Europe/London:20251009T193000
DTEND;TZID=Europe/London:20251009T204500
DTSTAMP:20260419T162443
CREATED:20250802T134634Z
LAST-MODIFIED:20250802T134657Z
UID:2149-1760038200-1760042700@www.3cljc.org.uk
SUMMARY:Learning Circle Online Study
DESCRIPTION:3CLJC runs an adult online ‘Learning Circle’\, where we meet on zoom to study Jewish topics together.
URL:https://www.3cljc.org.uk/event/learning-circle-online-study-2/
CATEGORIES:Adult Learning,Education
ATTACH;FMTTYPE=image/jpeg:https://www.3cljc.org.uk/wp-content/uploads/2025/03/learning-circle-2.jpeg
END:VEVENT
BEGIN:VEVENT
DTSTART;TZID=Europe/London:20251002T183000
DTEND;TZID=Europe/London:20251002T193000
DTSTAMP:20260419T162443
CREATED:20250802T134235Z
LAST-MODIFIED:20250802T134239Z
UID:2146-1759429800-1759433400@www.3cljc.org.uk
SUMMARY:Yom Kippur Neilah Service
DESCRIPTION:Concluding Yom Kipur with an online Neilah service before we break the fast.
URL:https://www.3cljc.org.uk/event/yom-kippur-neilah-service/
CATEGORIES:Jewish Festival,Services
ATTACH;FMTTYPE=image/jpeg:https://www.3cljc.org.uk/wp-content/uploads/2025/08/Designer.jpeg
END:VEVENT
BEGIN:VEVENT
DTSTART;TZID=Europe/London:20251002T100000
DTEND;TZID=Europe/London:20251002T180000
DTSTAMP:20260419T162443
CREATED:20250802T133830Z
LAST-MODIFIED:20250802T133840Z
UID:2144-1759399200-1759428000@www.3cljc.org.uk
SUMMARY:Yom Kippur Daytime Services
DESCRIPTION:Yom Kippur Daytime Services:  \n\n\n\n10:00-13:00 Morning and Additional \n\n\n\n14:00-15:00 Afternoon Alternative \n\n\n\n15:15-16:00 Yizkor
URL:https://www.3cljc.org.uk/event/yom-kipur-daytime-services/
CATEGORIES:Jewish Festival,Services
ATTACH;FMTTYPE=image/jpeg:https://www.3cljc.org.uk/wp-content/uploads/2024/12/Amidah.jpg
END:VEVENT
BEGIN:VEVENT
DTSTART;TZID=Europe/London:20251001T183000
DTEND;TZID=Europe/London:20251001T200000
DTSTAMP:20260419T162443
CREATED:20250802T133256Z
LAST-MODIFIED:20250802T134348Z
UID:2142-1759343400-1759348800@www.3cljc.org.uk
SUMMARY:Yom Kipur: Kol Nidrei Service
DESCRIPTION:Opening the Yom Kipur day of atonement with a Kol Nidrei Service.
URL:https://www.3cljc.org.uk/event/kol-nidrei-service-2/
CATEGORIES:Jewish Festival,Services
ATTACH;FMTTYPE=image/jpeg:https://www.3cljc.org.uk/wp-content/uploads/2021/02/book.jpg
END:VEVENT
BEGIN:VEVENT
DTSTART;TZID=Europe/London:20250925T193000
DTEND;TZID=Europe/London:20250925T204500
DTSTAMP:20260419T162443
CREATED:20250802T132911Z
LAST-MODIFIED:20250802T132921Z
UID:2140-1758828600-1758833100@www.3cljc.org.uk
SUMMARY:Learning Circle Online Study
DESCRIPTION:3CLJC runs an adult online ‘Learning Circle’\, where we meet on zoom to study Jewish topics together.
URL:https://www.3cljc.org.uk/event/learning-circle-online-study/
CATEGORIES:Adult Learning,Education
ATTACH;FMTTYPE=image/jpeg:https://www.3cljc.org.uk/wp-content/uploads/2025/03/learning-circle-1.jpeg
END:VEVENT
BEGIN:VEVENT
DTSTART;TZID=Europe/London:20250923T143000
DTEND;TZID=Europe/London:20250923T163000
DTSTAMP:20260419T162443
CREATED:20250802T132639Z
LAST-MODIFIED:20250802T132654Z
UID:2138-1758637800-1758645000@www.3cljc.org.uk
SUMMARY:Rosh Hashanah Service and Tea
DESCRIPTION:Rosh Hashanah Service and Tea.
URL:https://www.3cljc.org.uk/event/rosh-hashanah-service-and-tea/
CATEGORIES:Jewish Festival
ATTACH;FMTTYPE=image/jpeg:https://www.3cljc.org.uk/wp-content/uploads/2022/08/Rosh-Hashanah-scaled.jpg
END:VEVENT
BEGIN:VEVENT
DTSTART;TZID=Europe/London:20250922T180000
DTEND;TZID=Europe/London:20250922T200000
DTSTAMP:20260419T162443
CREATED:20250802T132410Z
LAST-MODIFIED:20250802T132429Z
UID:2136-1758564000-1758571200@www.3cljc.org.uk
SUMMARY:Erev Rosh Hashanah Seder
DESCRIPTION:Erev Rosh Hashanah Seder service and dinner.
URL:https://www.3cljc.org.uk/event/erev-rosh-hashanah-seder-2025/
CATEGORIES:Jewish Festival
ATTACH;FMTTYPE=image/jpeg:https://www.3cljc.org.uk/wp-content/uploads/2022/08/Rosh-Hashanah-scaled.jpg
END:VEVENT
BEGIN:VEVENT
DTSTART;TZID=Europe/London:20250914T143000
DTEND;TZID=Europe/London:20250914T163000
DTSTAMP:20260419T162443
CREATED:20250802T131524Z
LAST-MODIFIED:20250802T131528Z
UID:2133-1757860200-1757867400@www.3cljc.org.uk
SUMMARY:Cheder Picnic
DESCRIPTION:Children and families will meet for the annual Cheder picnic to open the new Cheder year.
URL:https://www.3cljc.org.uk/event/cheder-picnic/
CATEGORIES:Cheder,Education
ATTACH;FMTTYPE=image/jpeg:https://www.3cljc.org.uk/wp-content/uploads/2025/08/picnic.jpeg
END:VEVENT
BEGIN:VEVENT
DTSTART;TZID=Europe/London:20250913T110000
DTEND;TZID=Europe/London:20250913T140000
DTSTAMP:20260419T162443
CREATED:20250802T125718Z
LAST-MODIFIED:20250802T125725Z
UID:2131-1757761200-1757772000@www.3cljc.org.uk
SUMMARY:Shabbat and Bar Mitzvah Service
DESCRIPTION:Shabbat and Bar Mitzvah Service and Lunch
URL:https://www.3cljc.org.uk/event/shabbat-and-bar-mitzvah-servic/
CATEGORIES:Bar/Bat Mitzvah,Event,Services
ATTACH;FMTTYPE=image/jpeg:https://www.3cljc.org.uk/wp-content/uploads/2023/12/Bar-Mitzvah.jpg
END:VEVENT
BEGIN:VEVENT
DTSTART;TZID=Europe/London:20250911T193000
DTEND;TZID=Europe/London:20250911T204500
DTSTAMP:20260419T162444
CREATED:20250802T125014Z
LAST-MODIFIED:20250802T125017Z
UID:2129-1757619000-1757623500@www.3cljc.org.uk
SUMMARY:Learning Circle Online Study
DESCRIPTION:3CLJC runs an adult online ‘Learning Circle’\, where we meet on zoom to study Jewish topics together.
URL:https://www.3cljc.org.uk/event/learning-circle-september-2025/
CATEGORIES:Adult Learning,Education
ATTACH;FMTTYPE=image/jpeg:https://www.3cljc.org.uk/wp-content/uploads/2025/03/learning-circle-4.jpeg
END:VEVENT
BEGIN:VEVENT
DTSTART;TZID=Europe/London:20250808T140000
DTEND;TZID=Europe/London:20250808T163000
DTSTAMP:20260419T162444
CREATED:20250803T134150Z
LAST-MODIFIED:20250803T134153Z
UID:2180-1754661600-1754670600@www.3cljc.org.uk
SUMMARY:Culture Club: Bible-Themed Garden Tour
DESCRIPTION:Join us on 3CLJC Culture Club’s second event\, a bespoke Bible-Themed Garden Tour\, followed by tea and cake. 
URL:https://www.3cljc.org.uk/event/bible-themed-garden-tour/
CATEGORIES:Culture Club,Social
ATTACH;FMTTYPE=image/jpeg:https://www.3cljc.org.uk/wp-content/uploads/2025/08/Bible-Themed-Garden-Tour.jpg
END:VEVENT
BEGIN:VEVENT
DTSTART;TZID=Europe/London:20250717T193000
DTEND;TZID=Europe/London:20250717T204500
DTSTAMP:20260419T162444
CREATED:20250330T134422Z
LAST-MODIFIED:20250330T134623Z
UID:2059-1752780600-1752785100@www.3cljc.org.uk
SUMMARY:Learning Circle Online Study
DESCRIPTION:3CLJC runs an adult online ‘Learning Circle’\, where we meet on zoom to study Jewish topics together.
URL:https://www.3cljc.org.uk/event/learning-circle-studing-together-online-2-2/
CATEGORIES:Adult Learning
ATTACH;FMTTYPE=image/jpeg:https://www.3cljc.org.uk/wp-content/uploads/2025/03/learning-circle-3.jpeg
END:VEVENT
BEGIN:VEVENT
DTSTART;TZID=Europe/London:20250703T193000
DTEND;TZID=Europe/London:20250703T194500
DTSTAMP:20260419T162444
CREATED:20250330T134106Z
LAST-MODIFIED:20250330T134724Z
UID:2057-1751571000-1751571900@www.3cljc.org.uk
SUMMARY:Learning Circle Online Study
DESCRIPTION:3CLJC runs an adult online ‘Learning Circle’\, where we meet on zoom to study Jewish topics together.
URL:https://www.3cljc.org.uk/event/learning-circle-studing-together-online-4/
CATEGORIES:Adult Learning
ATTACH;FMTTYPE=image/jpeg:https://www.3cljc.org.uk/wp-content/uploads/2025/03/learning-circle-2.jpeg
END:VEVENT
BEGIN:VEVENT
DTSTART;TZID=Europe/London:20250622T143000
DTEND;TZID=Europe/London:20250622T163000
DTSTAMP:20260419T162444
CREATED:20250128T135835Z
LAST-MODIFIED:20250330T135240Z
UID:2009-1750602600-1750609800@www.3cljc.org.uk
SUMMARY:Cheder
DESCRIPTION:Creative Jewish learning for 3-12 year olds and their parents – please contact shalom@3cljc.org.uk for more information.
URL:https://www.3cljc.org.uk/event/jewish-learning/
CATEGORIES:Cheder,Education
ATTACH;FMTTYPE=image/jpeg:https://www.3cljc.org.uk/wp-content/uploads/2025/03/cheder-2.jpeg
END:VEVENT
BEGIN:VEVENT
DTSTART;TZID=Europe/London:20250619T193000
DTEND;TZID=Europe/London:20250619T194500
DTSTAMP:20260419T162444
CREATED:20250330T133650Z
LAST-MODIFIED:20250330T133659Z
UID:2055-1750361400-1750362300@www.3cljc.org.uk
SUMMARY:Learning Circle Online Study
DESCRIPTION:3CLJC runs an adult online ‘Learning Circle’\, where we meet on zoom to study Jewish topics together.
URL:https://www.3cljc.org.uk/event/learning-circle-studing-together-online-3/
CATEGORIES:Adult Learning
ATTACH;FMTTYPE=image/jpeg:https://www.3cljc.org.uk/wp-content/uploads/2025/03/learning-circle-4.jpeg
END:VEVENT
BEGIN:VEVENT
DTSTART;TZID=Europe/London:20250614T120000
DTEND;TZID=Europe/London:20250614T143000
DTSTAMP:20260419T162444
CREATED:20250330T162104Z
LAST-MODIFIED:20250330T162106Z
UID:2087-1749902400-1749911400@www.3cljc.org.uk
SUMMARY:Shabbat Service and Lunch
DESCRIPTION:Join us for special Shabbat Service remembering Anne Frank and her legacy. The service will be followed by a brings and share lunch.
URL:https://www.3cljc.org.uk/event/shabbat-service-lunch/
CATEGORIES:Lunch,Services
ATTACH;FMTTYPE=image/jpeg:https://www.3cljc.org.uk/wp-content/uploads/2024/04/Anne_Frank_passport_photo_May_1942.jpg
END:VEVENT
BEGIN:VEVENT
DTSTART;TZID=Europe/London:20250605T193000
DTEND;TZID=Europe/London:20250605T194500
DTSTAMP:20260419T162444
CREATED:20250330T133253Z
LAST-MODIFIED:20250330T133318Z
UID:2053-1749151800-1749152700@www.3cljc.org.uk
SUMMARY:Learning Circle Online Study
DESCRIPTION:3CLJC runs an adult online ‘Learning Circle’\, where we meet on zoom to study Jewish topics together.
URL:https://www.3cljc.org.uk/event/learning-circle-studing-together-online-2/
CATEGORIES:Adult Learning
ATTACH;FMTTYPE=image/jpeg:https://www.3cljc.org.uk/wp-content/uploads/2025/03/learning-circle-1.jpeg
END:VEVENT
BEGIN:VEVENT
DTSTART;TZID=Europe/London:20250601T150000
DTEND;TZID=Europe/London:20250601T170000
DTSTAMP:20260419T162444
CREATED:20250330T161340Z
LAST-MODIFIED:20250330T161343Z
UID:2084-1748790000-1748797200@www.3cljc.org.uk
SUMMARY:Shavuot Service\, Bat Mitzvah and Afternoon Tea
DESCRIPTION:A double celebration: Shavuot Afternoon Service and a Bat Mitzvah. These will be followed by bring and share afternoon tea.
URL:https://www.3cljc.org.uk/event/shavuot-service-bat-mitzvah-afternoon-tea/
CATEGORIES:Afternoon Tea,Bar/Bat Mitzvah,Jewish Festival,Services
ATTACH;FMTTYPE=image/jpeg:https://www.3cljc.org.uk/wp-content/uploads/2025/03/shavuot-2.jpeg
END:VEVENT
BEGIN:VEVENT
DTSTART;TZID=Europe/London:20250524T110000
DTEND;TZID=Europe/London:20250524T133000
DTSTAMP:20260419T162444
CREATED:20250330T155648Z
LAST-MODIFIED:20250330T160546Z
UID:2078-1748084400-1748093400@www.3cljc.org.uk
SUMMARY:Shabbat Morning Service
DESCRIPTION:Join the community for Shabbat Morning Service held online and led by Rabbi Danny.
URL:https://www.3cljc.org.uk/event/shabbat-morning-service-2/
CATEGORIES:Services
ATTACH;FMTTYPE=image/jpeg:https://www.3cljc.org.uk/wp-content/uploads/2025/03/cheder-4.jpeg
END:VEVENT
BEGIN:VEVENT
DTSTART;TZID=Europe/London:20250523T183000
DTEND;TZID=Europe/London:20250523T203000
DTSTAMP:20260419T162444
CREATED:20250330T155007Z
LAST-MODIFIED:20250330T155926Z
UID:2069-1748025000-1748032200@www.3cljc.org.uk
SUMMARY:Friday Night Service
DESCRIPTION:Join the community for Friday Night Service held in Gloucester and led by Rabbi Danny and a bring and share supper.
URL:https://www.3cljc.org.uk/event/friday-night-service-2/
LOCATION:Gloucester
CATEGORIES:Services,Supper
ATTACH;FMTTYPE=image/jpeg:https://www.3cljc.org.uk/wp-content/uploads/2025/03/service-1.jpeg
END:VEVENT
BEGIN:VEVENT
DTSTART;TZID=Europe/London:20250518T143000
DTEND;TZID=Europe/London:20250518T163000
DTSTAMP:20260419T162444
CREATED:20250128T135359Z
LAST-MODIFIED:20250330T135034Z
UID:2006-1747578600-1747585800@www.3cljc.org.uk
SUMMARY:Cheder
DESCRIPTION:Creative Jewish learning for 3-12 year olds and their parents – please contact shalom@3cljc.org.uk for more information.
URL:https://www.3cljc.org.uk/event/creative-jewish-learning/
CATEGORIES:Cheder,Education
ATTACH;FMTTYPE=image/jpeg:https://www.3cljc.org.uk/wp-content/uploads/2025/03/cheder-5.jpeg
END:VEVENT
BEGIN:VEVENT
DTSTART;TZID=Europe/London:20250515T193000
DTEND;TZID=Europe/London:20250515T194500
DTSTAMP:20260419T162444
CREATED:20250330T131524Z
LAST-MODIFIED:20250330T131651Z
UID:2039-1747337400-1747338300@www.3cljc.org.uk
SUMMARY:Learning Circle Online Study
DESCRIPTION:3CLJC runs an adult online ‘Learning Circle’\, where we meet on zoom to study Jewish topics together.
URL:https://www.3cljc.org.uk/event/learning-circle-studing-together-online/
CATEGORIES:Adult Learning
ATTACH;FMTTYPE=image/jpeg:https://www.3cljc.org.uk/wp-content/uploads/2025/03/learning-circle-3.jpeg
END:VEVENT
BEGIN:VEVENT
DTSTART;TZID=Europe/London:20250509T183000
DTEND;TZID=Europe/London:20250509T203000
DTSTAMP:20260419T162444
CREATED:20250216T142746Z
LAST-MODIFIED:20250330T140147Z
UID:2030-1746815400-1746822600@www.3cljc.org.uk
SUMMARY:Friday Night Dinner
DESCRIPTION:Community members will be hosting Friday Night Dinners at their homes throughout the 3 counties area to welcome the Shabbat together. Last year more than 100 members hosted or attended dinner all on the same evening.Details will be shared in an invite to members nearer the time. If anyone would like host Friday Night Dinner\, please let Rabbi Anna know.
URL:https://www.3cljc.org.uk/event/friday-night-dinner-shabbath/
CATEGORIES:Dinners,Social
ATTACH;FMTTYPE=image/jpeg:https://www.3cljc.org.uk/wp-content/uploads/2025/02/Dinner.jpeg
END:VEVENT
BEGIN:VEVENT
DTSTART;TZID=Europe/London:20250501T193000
DTEND;TZID=Europe/London:20250501T204500
DTSTAMP:20260419T162444
CREATED:20250216T135734Z
LAST-MODIFIED:20250216T141633Z
UID:2023-1746127800-1746132300@www.3cljc.org.uk
SUMMARY:Learning Circle
DESCRIPTION:3CLJC runs an adult Learning Circle\, offering Jewish learning for all members. It is also suitable for those wishing to convert to Liberal Judaism. Learning Circles are open to all members\, and you are welcome to dip in and out depending on the topics. Prospective members can try out a couple of Learning Circle sessions before joining the community. The learning circle is hosted online on zoom. \n\n\n\nMore details of the topic\, along with the zoom link\, will be shared in the bulletin nearer the time.
URL:https://www.3cljc.org.uk/event/learning-circle-study-knowledge/
LOCATION:Online
CATEGORIES:Adult Learning,Education
ATTACH;FMTTYPE=image/jpeg:https://www.3cljc.org.uk/wp-content/uploads/2024/12/Amidah.jpg
END:VEVENT
END:VCALENDAR